Workbook

Sheet Útmutató
B2: Keresés táblázatban: gyakorló feladatok
B3: FKERES közelítő és pontos egyezéssel, HAHIBA, OSZLOP()+1 trükk, összefűzött keresési kulcs, VKERES és XKERES.
B5: Ez a MEGOLDÁS fájl: a sárga cellákban a kész képletek vannak, a feladatok mellett zöld betűvel a képletek magyar Excelben beírható alakja.
B7: Munkalapok
B8: 1. Ponthatárok: Érdemjegy és szöveges értékelés pontszám alapján, FKERES közelítő egyezéssel.
B9: 2. Tartozások: Ügyfelek tartozása az Adóslista lapról, FKERES pontos egyezéssel és HAHIBA-val.
B10: 3. Adóslista: Segédtábla a Tartozások laphoz.
B11: 4. Készletérték: Készletérték telephelyenként egyetlen lemásolható FKERES képlettel (OSZLOP()+1 trükk).
B12: 5. Készlet: Segédtábla a Készletérték laphoz.
B13: 6. Órabérek: Órabér a kategória, státusz és szint összefűzött kulcsával keresve a Bértábla lapon.
B14: 7. Bértábla: Segédtábla: a keresési kulcs összefűzése három oszlopból.
B15: 8. Szélerősség: Szélerősség neve és fokozata vízszintes segédtáblából: VKERES és XKERES.
B17: Az adatok kitaláltak, bármilyen egyezés a valósággal a véletlen műve.

Sheet Ponthatárok
A1: hallgató | B1: pontszám | C1: jegy | D1: értékelés
A2: Szekeres Attila | B2: 74 | C2: =VLOOKUP(B2,$G$5:$J$9,3,TRUE) | D2: =VLOOKUP(B2,$G$5:$J$9,4,TRUE)
A3: Rácz Emese | B3: 27 | C3: =VLOOKUP(B3,$G$5:$J$9,3,TRUE) | D3: =VLOOKUP(B3,$G$5:$J$9,4,TRUE) | G3: Segédtábla (ponthatárok)
A4: Fekete Viktor | B4: 78 | C4: =VLOOKUP(B4,$G$5:$J$9,3,TRUE) | D4: =VLOOKUP(B4,$G$5:$J$9,4,TRUE) | G4: alsó határ | H4: felső határ | I4: jegy | J4: értékelés
A5: Molnár Imre | B5: 31 | C5: =VLOOKUP(B5,$G$5:$J$9,3,TRUE) | D5: =VLOOKUP(B5,$G$5:$J$9,4,TRUE) | G5: 0 | H5: 49 | I5: 1 | J5: elégtelen
A6: Fazekas Kristóf | B6: 67 | C6: =VLOOKUP(B6,$G$5:$J$9,3,TRUE) | D6: =VLOOKUP(B6,$G$5:$J$9,4,TRUE) | G6: 50 | H6: 61 | I6: 2 | J6: elégséges
A7: Bódi Gabriella | B7: 75 | C7: =VLOOKUP(B7,$G$5:$J$9,3,TRUE) | D7: =VLOOKUP(B7,$G$5:$J$9,4,TRUE) | G7: 62 | H7: 74 | I7: 3 | J7: közepes
A8: Mészáros Viktor | B8: 67 | C8: =VLOOKUP(B8,$G$5:$J$9,3,TRUE) | D8: =VLOOKUP(B8,$G$5:$J$9,4,TRUE) | G8: 75 | H8: 87 | I8: 4 | J8: jó
A9: Lukács Anna | B9: 27 | C9: =VLOOKUP(B9,$G$5:$J$9,3,TRUE) | D9: =VLOOKUP(B9,$G$5:$J$9,4,TRUE) | G9: 88 | H9: 100 | I9: 5 | J9: jeles
A10: Szalai Levente | B10: 44 | C10: =VLOOKUP(B10,$G$5:$J$9,3,TRUE) | D10: =VLOOKUP(B10,$G$5:$J$9,4,TRUE)
A11: Kerekes Orsolya | B11: 52 | C11: =VLOOKUP(B11,$G$5:$J$9,3,TRUE) | D11: =VLOOKUP(B11,$G$5:$J$9,4,TRUE)
A12: Bódi Edit | B12: 57 | C12: =VLOOKUP(B12,$G$5:$J$9,3,TRUE) | D12: =VLOOKUP(B12,$G$5:$J$9,4,TRUE) | G12: Feladatok
A13: Hajdu Ildikó | B13: 73 | C13: =VLOOKUP(B13,$G$5:$J$9,3,TRUE) | D13: =VLOOKUP(B13,$G$5:$J$9,4,TRUE) | G13: Értékeld a hallgatókat a pontszámuk alapján a segédtábla kategóriái szerint!
A14: Fodor Vilma | B14: 75 | C14: =VLOOKUP(B14,$G$5:$J$9,3,TRUE) | D14: =VLOOKUP(B14,$G$5:$J$9,4,TRUE) | G14: 1. C oszlop: a jegy. 2. D oszlop: a szöveges értékelés.
A15: Hajdu Ádám | B15: 57 | C15: =VLOOKUP(B15,$G$5:$J$9,3,TRUE) | D15: =VLOOKUP(B15,$G$5:$J$9,4,TRUE) | G15: Közelítő egyezés (4. argumentum IGAZ vagy elhagyva): az FKERES a keresett értéknél nem
A16: Tóth Ildikó | B16: 95 | C16: =VLOOKUP(B16,$G$5:$J$9,3,TRUE) | D16: =VLOOKUP(B16,$G$5:$J$9,4,TRUE) | G16: nagyobb legnagyobb alsó határt találja meg. Ehhez az első oszlopnak növekvően rendezettnek kell lennie.
A17: Somogyi Réka | B17: 22 | C17: =VLOOKUP(B17,$G$5:$J$9,3,TRUE) | D17: =VLOOKUP(B17,$G$5:$J$9,4,TRUE) | G17: A felső határ oszlopot az FKERES nem használja, csak az olvasót segíti.
A18: Tóth Attila | B18: 79 | C18: =VLOOKUP(B18,$G$5:$J$9,3,TRUE) | D18: =VLOOKUP(B18,$G$5:$J$9,4,TRUE)
A19: Somogyi Laura | B19: 79 | C19: =VLOOKUP(B19,$G$5:$J$9,3,TRUE) | D19: =VLOOKUP(B19,$G$5:$J$9,4,TRUE) | G19: Megoldás (képletek magyar Excelben):
A20: Major Tímea | B20: 46 | C20: =VLOOKUP(B20,$G$5:$J$9,3,TRUE) | D20: =VLOOKUP(B20,$G$5:$J$9,4,TRUE) | G20: C2: =FKERES(B2;$G$5:$J$9;3;IGAZ)
A21: Erdős Judit | B21: 70 | C21: =VLOOKUP(B21,$G$5:$J$9,3,TRUE) | D21: =VLOOKUP(B21,$G$5:$J$9,4,TRUE) | G21: D2: =FKERES(B2;$G$5:$J$9;4;IGAZ)
A22: Mészáros Anna | B22: 67 | C22: =VLOOKUP(B22,$G$5:$J$9,3,TRUE) | D22: =VLOOKUP(B22,$G$5:$J$9,4,TRUE)
A23: Somogyi Imre | B23: 64 | C23: =VLOOKUP(B23,$G$5:$J$9,3,TRUE) | D23: =VLOOKUP(B23,$G$5:$J$9,4,TRUE)
A24: Pásztor Edit | B24: 39 | C24: =VLOOKUP(B24,$G$5:$J$9,3,TRUE) | D24: =VLOOKUP(B24,$G$5:$J$9,4,TRUE)
A25: Simon Hanna | B25: 66 | C25: =VLOOKUP(B25,$G$5:$J$9,3,TRUE) | D25: =VLOOKUP(B25,$G$5:$J$9,4,TRUE)
A26: Orosz Bálint | B26: 54 | C26: =VLOOKUP(B26,$G$5:$J$9,3,TRUE) | D26: =VLOOKUP(B26,$G$5:$J$9,4,TRUE)
A27: Szalai Vilma | B27: 48 | C27: =VLOOKUP(B27,$G$5:$J$9,3,TRUE) | D27: =VLOOKUP(B27,$G$5:$J$9,4,TRUE)
A28: Kerekes Edit | B28: 45 | C28: =VLOOKUP(B28,$G$5:$J$9,3,TRUE) | D28: =VLOOKUP(B28,$G$5:$J$9,4,TRUE)
A29: Ló Kristóf | B29: 92 | C29: =VLOOKUP(B29,$G$5:$J$9,3,TRUE) | D29: =VLOOKUP(B29,$G$5:$J$9,4,TRUE)
A30: Papp Orsolya | B30: 82 | C30: =VLOOKUP(B30,$G$5:$J$9,3,TRUE) | D30: =VLOOKUP(B30,$G$5:$J$9,4,TRUE)
A31: Dénes Gabriella | B31: 64 | C31: =VLOOKUP(B31,$G$5:$J$9,3,TRUE) | D31: =VLOOKUP(B31,$G$5:$J$9,4,TRUE)

Sheet Tartozások
A1: kód | B1: ügyfél | C1: város | D1: tartozás (Ft) | F1: Feladatok
A2: U-1001 | B2: Oláh Zsófia | C2: Győr | D2: =IFERROR(VLOOKUP(A2,'Adóslista'!$A$2:$C$23,3,FALSE),0) | F2: Írasd ki az ügyfelek esetleges tartozását a kód alapján az Adóslista munkalapról!
A3: U-1002 | B3: Bogdán Dóra | C3: Sopron | D3: =IFERROR(VLOOKUP(A3,'Adóslista'!$A$2:$C$23,3,FALSE),0) | F3: 1. Először írd meg az FKERES (VLOOKUP) képletet pontos egyezéssel (4. argumentum: HAMIS vagy 0).
A4: U-1003 | B4: Oláh Gabriella | C4: Miskolc | D4: =IFERROR(VLOOKUP(A4,'Adóslista'!$A$2:$C$23,3,FALSE),0) | F4: Akinek nincs tartozása, annál #HIÁNYZIK hibaérték jelenik meg.
A5: U-1004 | B5: Major Laura | C5: Szeged | D5: =IFERROR(VLOOKUP(A5,'Adóslista'!$A$2:$C$23,3,FALSE),0) | F5: 2. Módosítsd a képletet: tüntesd el a hibaértékeket a HAHIBA (IFERROR) függvénnyel,
A6: U-1005 | B6: Csonka Dóra | C6: Szolnok | D6: =IFERROR(VLOOKUP(A6,'Adóslista'!$A$2:$C$23,3,FALSE),0) | F6: a hibák helyén 0 jelenjen meg.
A7: U-1006 | B7: Fodor Imre | C7: Győr | D7: =IFERROR(VLOOKUP(A7,'Adóslista'!$A$2:$C$23,3,FALSE),0) | F7: A segédtábla tartományát rögzítsd ($A$2:$C$23), hogy a képlet lemásolható legyen.
A8: U-1007 | B8: Tóth Tímea | C8: Kecskemét | D8: =IFERROR(VLOOKUP(A8,'Adóslista'!$A$2:$C$23,3,FALSE),0)
A9: U-1008 | B9: Papp Csilla | C9: Eger | D9: =IFERROR(VLOOKUP(A9,'Adóslista'!$A$2:$C$23,3,FALSE),0) | F9: Megoldás (képletek magyar Excelben):
A10: U-1009 | B10: Róka Edit | C10: Budapest | D10: =IFERROR(VLOOKUP(A10,'Adóslista'!$A$2:$C$23,3,FALSE),0) | F10: D2: =HAHIBA(FKERES(A2;'Adóslista'!$A$2:$C$23;3;HAMIS);0)
A11: U-1010 | B11: Fehér Laura | C11: Szeged | D11: =IFERROR(VLOOKUP(A11,'Adóslista'!$A$2:$C$23,3,FALSE),0)
A12: U-1011 | B12: Lukács Tímea | C12: Szeged | D12: =IFERROR(VLOOKUP(A12,'Adóslista'!$A$2:$C$23,3,FALSE),0)
A13: U-1012 | B13: Balogh Zsófia | C13: Szeged | D13: =IFERROR(VLOOKUP(A13,'Adóslista'!$A$2:$C$23,3,FALSE),0)
A14: U-1013 | B14: Nagy Réka | C14: Szolnok | D14: =IFERROR(VLOOKUP(A14,'Adóslista'!$A$2:$C$23,3,FALSE),0)
A15: U-1014 | B15: Tóth Orsolya | C15: Miskolc | D15: =IFERROR(VLOOKUP(A15,'Adóslista'!$A$2:$C$23,3,FALSE),0)
A16: U-1015 | B16: Balogh Gabriella | C16: Győr | D16: =IFERROR(VLOOKUP(A16,'Adóslista'!$A$2:$C$23,3,FALSE),0)
A17: U-1016 | B17: Kerekes Orsolya | C17: Vác | D17: =IFERROR(VLOOKUP(A17,'Adóslista'!$A$2:$C$23,3,FALSE),0)
A18: U-1017 | B18: Somogyi Hanna | C18: Budapest | D18: =IFERROR(VLOOKUP(A18,'Adóslista'!$A$2:$C$23,3,FALSE),0)
A19: U-1018 | B19: Simon Mónika | C19: Kecskemét | D19: =IFERROR(VLOOKUP(A19,'Adóslista'!$A$2:$C$23,3,FALSE),0)
A20: U-1019 | B20: Kovács Judit | C20: Eger | D20: =IFERROR(VLOOKUP(A20,'Adóslista'!$A$2:$C$23,3,FALSE),0)
A21: U-1020 | B21: Papp Tímea | C21: Budapest | D21: =IFERROR(VLOOKUP(A21,'Adóslista'!$A$2:$C$23,3,FALSE),0)
A22: U-1021 | B22: Antal Réka | C22: Győr | D22: =IFERROR(VLOOKUP(A22,'Adóslista'!$A$2:$C$23,3,FALSE),0)
... A61: U-1060 | B61: Csonka Olivér | C61: Kecskemét | D61: =IFERROR(VLOOKUP(A61,'Adóslista'!$A$2:$C$23,3,FALSE),0)

Sheet Adóslista
A1: kód | B1: ügyfél | C1: tartozás (Ft)
A2: U-1058 | B2: Antal Hanna | C2: 36000
A3: U-1015 | B3: Balogh Gabriella | C3: 69500
A4: U-1009 | B4: Róka Edit | C4: 29000
A5: U-1023 | B5: Antal Teréz | C5: 173000
A6: U-1060 | B6: Csonka Olivér | C6: 55000
A7: U-1048 | B7: Erdős Rita | C7: 140500
A8: U-1049 | B8: Hegyi Orsolya | C8: 187500
A9: U-1031 | B9: Bíró Levente | C9: 227500
A10: U-1027 | B10: Szőke Boglárka | C10: 181500
A11: U-1034 | B11: Fazekas Bence | C11: 113000
A12: U-1035 | B12: Sólyom Félix | C12: 224500
A13: U-1028 | B13: Bódi Zoltán | C13: 45000
... A23: U-1024 | B23: Sólyom Hanna | C23: 148500

Sheet Készletérték
A1: cikkszám | B1: egységár (Ft) | C1: Szeged | D1: Pécs | E1: Győr | F1: Debrecen | G1: Eger | H1: összesen | J1: Feladatok
A2: K-201 | B2: 11700 | C2: =VLOOKUP($A2,'Készlet'!$A$2:$H$21,COLUMN()+1,FALSE)*$B2 | D2: =VLOOKUP($A2,'Készlet'!$A$2:$H$21,COLUMN()+1,FALSE)*$B2 | E2: =VLOOKUP($A2,'Készlet'!$A$2:$H$21,COLUMN()+1,FALSE)*$B2 | F2: =VLOOKUP($A2,'Készlet'!$A$2:$H$21,COLUMN()+1,FALSE)*$B2 | G2: =VLOOKUP($A2,'Készlet'!$A$2:$H$21,COLUMN()+1,FALSE)*$B2 | H2: =SUM(C2:G2) | J2: Számítsd ki a termékek készletértékét telephelyenként: egységár × darabszám. A darabszámok
A3: K-202 | B3: 8650 | C3: =VLOOKUP($A3,'Készlet'!$A$2:$H$21,COLUMN()+1,FALSE)*$B3 | D3: =VLOOKUP($A3,'Készlet'!$A$2:$H$21,COLUMN()+1,FALSE)*$B3 | E3: =VLOOKUP($A3,'Készlet'!$A$2:$H$21,COLUMN()+1,FALSE)*$B3 | F3: =VLOOKUP($A3,'Készlet'!$A$2:$H$21,COLUMN()+1,FALSE)*$B3 | G3: =VLOOKUP($A3,'Készlet'!$A$2:$H$21,COLUMN()+1,FALSE)*$B3 | H3: =SUM(C3:G3) | J3: a Készlet munkalapon vannak, ugyanabban a sorrendben, mint itt a telephelyek, de a cikkek más sorrendben.
A4: K-203 | B4: 10150 | C4: =VLOOKUP($A4,'Készlet'!$A$2:$H$21,COLUMN()+1,FALSE)*$B4 | D4: =VLOOKUP($A4,'Készlet'!$A$2:$H$21,COLUMN()+1,FALSE)*$B4 | E4: =VLOOKUP($A4,'Készlet'!$A$2:$H$21,COLUMN()+1,FALSE)*$B4 | F4: =VLOOKUP($A4,'Készlet'!$A$2:$H$21,COLUMN()+1,FALSE)*$B4 | G4: =VLOOKUP($A4,'Készlet'!$A$2:$H$21,COLUMN()+1,FALSE)*$B4 | H4: =SUM(C4:G4) | J4: 1. Írj a C2-be EGYETLEN képletet, amelyet jobbra és lefelé is másolhatsz a G21-ig!
A5: K-204 | B5: 23200 | C5: =VLOOKUP($A5,'Készlet'!$A$2:$H$21,COLUMN()+1,FALSE)*$B5 | D5: =VLOOKUP($A5,'Készlet'!$A$2:$H$21,COLUMN()+1,FALSE)*$B5 | E5: =VLOOKUP($A5,'Készlet'!$A$2:$H$21,COLUMN()+1,FALSE)*$B5 | F5: =VLOOKUP($A5,'Készlet'!$A$2:$H$21,COLUMN()+1,FALSE)*$B5 | G5: =VLOOKUP($A5,'Készlet'!$A$2:$H$21,COLUMN()+1,FALSE)*$B5 | H5: =SUM(C5:G5) | J5: Az FKERES első argumentumában rögzítsd az oszlopot ($A2). A harmadik argumentum ne állandó
A6: K-205 | B6: 13750 | C6: =VLOOKUP($A6,'Készlet'!$A$2:$H$21,COLUMN()+1,FALSE)*$B6 | D6: =VLOOKUP($A6,'Készlet'!$A$2:$H$21,COLUMN()+1,FALSE)*$B6 | E6: =VLOOKUP($A6,'Készlet'!$A$2:$H$21,COLUMN()+1,FALSE)*$B6 | F6: =VLOOKUP($A6,'Készlet'!$A$2:$H$21,COLUMN()+1,FALSE)*$B6 | G6: =VLOOKUP($A6,'Készlet'!$A$2:$H$21,COLUMN()+1,FALSE)*$B6 | H6: =SUM(C6:G6) | J6: legyen, hanem OSZLOP()+1: a C oszlopban OSZLOP() = 3, a Készlet lapon a Szeged a 4. oszlop.
A7: K-206 | B7: 6850 | C7: =VLOOKUP($A7,'Készlet'!$A$2:$H$21,COLUMN()+1,FALSE)*$B7 | D7: =VLOOKUP($A7,'Készlet'!$A$2:$H$21,COLUMN()+1,FALSE)*$B7 | E7: =VLOOKUP($A7,'Készlet'!$A$2:$H$21,COLUMN()+1,FALSE)*$B7 | F7: =VLOOKUP($A7,'Készlet'!$A$2:$H$21,COLUMN()+1,FALSE)*$B7 | G7: =VLOOKUP($A7,'Készlet'!$A$2:$H$21,COLUMN()+1,FALSE)*$B7 | H7: =SUM(C7:G7) | J7: Az egységárnál is az oszlopot rögzítsd: $B2.
A8: K-207 | B8: 9350 | C8: =VLOOKUP($A8,'Készlet'!$A$2:$H$21,COLUMN()+1,FALSE)*$B8 | D8: =VLOOKUP($A8,'Készlet'!$A$2:$H$21,COLUMN()+1,FALSE)*$B8 | E8: =VLOOKUP($A8,'Készlet'!$A$2:$H$21,COLUMN()+1,FALSE)*$B8 | F8: =VLOOKUP($A8,'Készlet'!$A$2:$H$21,COLUMN()+1,FALSE)*$B8 | G8: =VLOOKUP($A8,'Készlet'!$A$2:$H$21,COLUMN()+1,FALSE)*$B8 | H8: =SUM(C8:G8) | J8: 2. H oszlop: összesen.
A9: K-208 | B9: 1200 | C9: =VLOOKUP($A9,'Készlet'!$A$2:$H$21,COLUMN()+1,FALSE)*$B9 | D9: =VLOOKUP($A9,'Készlet'!$A$2:$H$21,COLUMN()+1,FALSE)*$B9 | E9: =VLOOKUP($A9,'Készlet'!$A$2:$H$21,COLUMN()+1,FALSE)*$B9 | F9: =VLOOKUP($A9,'Készlet'!$A$2:$H$21,COLUMN()+1,FALSE)*$B9 | G9: =VLOOKUP($A9,'Készlet'!$A$2:$H$21,COLUMN()+1,FALSE)*$B9 | H9: =SUM(C9:G9)
A10: K-209 | B10: 22050 | C10: =VLOOKUP($A10,'Készlet'!$A$2:$H$21,COLUMN()+1,FALSE)*$B10 | D10: =VLOOKUP($A10,'Készlet'!$A$2:$H$21,COLUMN()+1,FALSE)*$B10 | E10: =VLOOKUP($A10,'Készlet'!$A$2:$H$21,COLUMN()+1,FALSE)*$B10 | F10: =VLOOKUP($A10,'Készlet'!$A$2:$H$21,COLUMN()+1,FALSE)*$B10 | G10: =VLOOKUP($A10,'Készlet'!$A$2:$H$21,COLUMN()+1,FALSE)*$B10 | H10: =SUM(C10:G10) | J10: Megoldás (képletek magyar Excelben):
A11: K-210 | B11: 3850 | C11: =VLOOKUP($A11,'Készlet'!$A$2:$H$21,COLUMN()+1,FALSE)*$B11 | D11: =VLOOKUP($A11,'Készlet'!$A$2:$H$21,COLUMN()+1,FALSE)*$B11 | E11: =VLOOKUP($A11,'Készlet'!$A$2:$H$21,COLUMN()+1,FALSE)*$B11 | F11: =VLOOKUP($A11,'Készlet'!$A$2:$H$21,COLUMN()+1,FALSE)*$B11 | G11: =VLOOKUP($A11,'Készlet'!$A$2:$H$21,COLUMN()+1,FALSE)*$B11 | H11: =SUM(C11:G11) | J11: C2: =FKERES($A2;'Készlet'!$A$2:$H$21;OSZLOP()+1;HAMIS)*$B2
A12: K-211 | B12: 15000 | C12: =VLOOKUP($A12,'Készlet'!$A$2:$H$21,COLUMN()+1,FALSE)*$B12 | D12: =VLOOKUP($A12,'Készlet'!$A$2:$H$21,COLUMN()+1,FALSE)*$B12 | E12: =VLOOKUP($A12,'Készlet'!$A$2:$H$21,COLUMN()+1,FALSE)*$B12 | F12: =VLOOKUP($A12,'Készlet'!$A$2:$H$21,COLUMN()+1,FALSE)*$B12 | G12: =VLOOKUP($A12,'Készlet'!$A$2:$H$21,COLUMN()+1,FALSE)*$B12 | H12: =SUM(C12:G12) | J12: H2: =SZUM(C2:G2)
A13: K-212 | B13: 26150 | C13: =VLOOKUP($A13,'Készlet'!$A$2:$H$21,COLUMN()+1,FALSE)*$B13 | D13: =VLOOKUP($A13,'Készlet'!$A$2:$H$21,COLUMN()+1,FALSE)*$B13 | E13: =VLOOKUP($A13,'Készlet'!$A$2:$H$21,COLUMN()+1,FALSE)*$B13 | F13: =VLOOKUP($A13,'Készlet'!$A$2:$H$21,COLUMN()+1,FALSE)*$B13 | G13: =VLOOKUP($A13,'Készlet'!$A$2:$H$21,COLUMN()+1,FALSE)*$B13 | H13: =SUM(C13:G13)
A14: K-213 | B14: 2150 | C14: =VLOOKUP($A14,'Készlet'!$A$2:$H$21,COLUMN()+1,FALSE)*$B14 | D14: =VLOOKUP($A14,'Készlet'!$A$2:$H$21,COLUMN()+1,FALSE)*$B14 | E14: =VLOOKUP($A14,'Készlet'!$A$2:$H$21,COLUMN()+1,FALSE)*$B14 | F14: =VLOOKUP($A14,'Készlet'!$A$2:$H$21,COLUMN()+1,FALSE)*$B14 | G14: =VLOOKUP($A14,'Készlet'!$A$2:$H$21,COLUMN()+1,FALSE)*$B14 | H14: =SUM(C14:G14)
A15: K-214 | B15: 8400 | C15: =VLOOKUP($A15,'Készlet'!$A$2:$H$21,COLUMN()+1,FALSE)*$B15 | D15: =VLOOKUP($A15,'Készlet'!$A$2:$H$21,COLUMN()+1,FALSE)*$B15 | E15: =VLOOKUP($A15,'Készlet'!$A$2:$H$21,COLUMN()+1,FALSE)*$B15 | F15: =VLOOKUP($A15,'Készlet'!$A$2:$H$21,COLUMN()+1,FALSE)*$B15 | G15: =VLOOKUP($A15,'Készlet'!$A$2:$H$21,COLUMN()+1,FALSE)*$B15 | H15: =SUM(C15:G15)
A16: K-215 | B16: 1650 | C16: =VLOOKUP($A16,'Készlet'!$A$2:$H$21,COLUMN()+1,FALSE)*$B16 | D16: =VLOOKUP($A16,'Készlet'!$A$2:$H$21,COLUMN()+1,FALSE)*$B16 | E16: =VLOOKUP($A16,'Készlet'!$A$2:$H$21,COLUMN()+1,FALSE)*$B16 | F16: =VLOOKUP($A16,'Készlet'!$A$2:$H$21,COLUMN()+1,FALSE)*$B16 | G16: =VLOOKUP($A16,'Készlet'!$A$2:$H$21,COLUMN()+1,FALSE)*$B16 | H16: =SUM(C16:G16)
A17: K-216 | B17: 23250 | C17: =VLOOKUP($A17,'Készlet'!$A$2:$H$21,COLUMN()+1,FALSE)*$B17 | D17: =VLOOKUP($A17,'Készlet'!$A$2:$H$21,COLUMN()+1,FALSE)*$B17 | E17: =VLOOKUP($A17,'Készlet'!$A$2:$H$21,COLUMN()+1,FALSE)*$B17 | F17: =VLOOKUP($A17,'Készlet'!$A$2:$H$21,COLUMN()+1,FALSE)*$B17 | G17: =VLOOKUP($A17,'Készlet'!$A$2:$H$21,COLUMN()+1,FALSE)*$B17 | H17: =SUM(C17:G17)
A18: K-217 | B18: 12350 | C18: =VLOOKUP($A18,'Készlet'!$A$2:$H$21,COLUMN()+1,FALSE)*$B18 | D18: =VLOOKUP($A18,'Készlet'!$A$2:$H$21,COLUMN()+1,FALSE)*$B18 | E18: =VLOOKUP($A18,'Készlet'!$A$2:$H$21,COLUMN()+1,FALSE)*$B18 | F18: =VLOOKUP($A18,'Készlet'!$A$2:$H$21,COLUMN()+1,FALSE)*$B18 | G18: =VLOOKUP($A18,'Készlet'!$A$2:$H$21,COLUMN()+1,FALSE)*$B18 | H18: =SUM(C18:G18)
A19: K-218 | B19: 17600 | C19: =VLOOKUP($A19,'Készlet'!$A$2:$H$21,COLUMN()+1,FALSE)*$B19 | D19: =VLOOKUP($A19,'Készlet'!$A$2:$H$21,COLUMN()+1,FALSE)*$B19 | E19: =VLOOKUP($A19,'Készlet'!$A$2:$H$21,COLUMN()+1,FALSE)*$B19 | F19: =VLOOKUP($A19,'Készlet'!$A$2:$H$21,COLUMN()+1,FALSE)*$B19 | G19: =VLOOKUP($A19,'Készlet'!$A$2:$H$21,COLUMN()+1,FALSE)*$B19 | H19: =SUM(C19:G19)
A20: K-219 | B20: 5400 | C20: =VLOOKUP($A20,'Készlet'!$A$2:$H$21,COLUMN()+1,FALSE)*$B20 | D20: =VLOOKUP($A20,'Készlet'!$A$2:$H$21,COLUMN()+1,FALSE)*$B20 | E20: =VLOOKUP($A20,'Készlet'!$A$2:$H$21,COLUMN()+1,FALSE)*$B20 | F20: =VLOOKUP($A20,'Készlet'!$A$2:$H$21,COLUMN()+1,FALSE)*$B20 | G20: =VLOOKUP($A20,'Készlet'!$A$2:$H$21,COLUMN()+1,FALSE)*$B20 | H20: =SUM(C20:G20)
A21: K-220 | B21: 24850 | C21: =VLOOKUP($A21,'Készlet'!$A$2:$H$21,COLUMN()+1,FALSE)*$B21 | D21: =VLOOKUP($A21,'Készlet'!$A$2:$H$21,COLUMN()+1,FALSE)*$B21 | E21: =VLOOKUP($A21,'Készlet'!$A$2:$H$21,COLUMN()+1,FALSE)*$B21 | F21: =VLOOKUP($A21,'Készlet'!$A$2:$H$21,COLUMN()+1,FALSE)*$B21 | G21: =VLOOKUP($A21,'Készlet'!$A$2:$H$21,COLUMN()+1,FALSE)*$B21 | H21: =SUM(C21:G21)

Sheet Készlet
A1: cikkszám | B1: megnevezés | C1: egység | D1: Szeged | E1: Pécs | F1: Győr | G1: Debrecen | H1: Eger
A2: K-217 | B2: termosz | C2: db | D2: 2 | E2: 5 | F2: 32 | G2: 4 | H2: 18
A3: K-204 | B3: hűtőtáska | C3: db | D3: 25 | E3: 23 | F3: 25 | G3: 28 | H3: 35
A4: K-218 | B4: gumimatrac | C4: db | D4: 18 | E4: 32 | F4: 9 | G4: 5 | H4: 31
A5: K-212 | B5: piknikkosár | C5: db | D5: 32 | E5: 14 | F5: 31 | G5: 4 | H5: 32
A6: K-220 | B6: sátor | C6: db | D6: 3 | E6: 11 | F6: 28 | G6: 8 | H6: 3
A7: K-207 | B7: locsolókanna | C7: db | D7: 2 | E7: 28 | F7: 1 | G7: 13 | H7: 30
A8: K-211 | B8: takaró | C8: db | D8: 26 | E8: 3 | F8: 37 | G8: 32 | H8: 38
A9: K-209 | B9: kerti lámpa | C9: db | D9: 14 | E9: 37 | F9: 29 | G9: 5 | H9: 25
A10: K-213 | B10: szúnyogháló | C10: db | D10: 23 | E10: 3 | F10: 33 | G10: 23 | H10: 6
A11: K-206 | B11: kerti asztal | C11: db | D11: 39 | E11: 18 | F11: 8 | G11: 10 | H11: 7
A12: K-216 | B12: kempingszék | C12: db | D12: 2 | E12: 1 | F12: 16 | G12: 2 | H12: 23
A13: K-205 | B13: függőágy | C13: db | D13: 35 | E13: 27 | F13: 19 | G13: 31 | H13: 21
... A21: K-219 | B21: napágy | C21: db | D21: 0 | E21: 1 | F21: 11 | G21: 17 | H21: 4

Sheet Órabérek
A1: név | B1: részleg | C1: kategória | D1: státusz | E1: szint | F1: órabér (Ft) | H1: Feladatok
A2: Mészáros Kristóf | B2: szállítás | C2: szellemi | D2: teljes | E2: 1 | F2: =VLOOKUP(C2&D2&E2,'Bértábla'!$D$2:$E$13,2,FALSE) | H2: Írasd ki az emberek órabérét a Bértábla lapról. Az órabér a kategória, a státusz ÉS a szint
A3: Ló Zoltán | B3: iroda | C3: fizikai | D3: rész | E3: 1 | F3: =VLOOKUP(C3&D3&E3,'Bértábla'!$D$2:$E$13,2,FALSE) | H3: együttesétől függ, az FKERES viszont csak egy oszlopban keres.
A4: Lukács Mónika | B4: szállítás | C4: fizikai | D4: rész | E4: 2 | F4: =VLOOKUP(C4&D4&E4,'Bértábla'!$D$2:$E$13,2,FALSE) | H4: 1. A Bértábla lapon a D oszlopban fűzd össze a három tulajdonságot: =A2&B2&C2 (ez a kulcs).
A5: Dénes Vilma | B5: raktár | C5: szellemi | D5: teljes | E5: 3 | F5: =VLOOKUP(C5&D5&E5,'Bértábla'!$D$2:$E$13,2,FALSE) | H5: 2. Itt az F oszlopban keresd meg az emberek összefűzött tulajdonságait (C2&D2&E2)
A6: Antal Dénes | B6: iroda | C6: fizikai | D6: teljes | E6: 2 | F6: =VLOOKUP(C6&D6&E6,'Bértábla'!$D$2:$E$13,2,FALSE) | H6: a Bértábla D:E tartományában, pontos egyezéssel.
A7: Bakó Péter | B7: bolt | C7: fizikai | D7: teljes | E7: 1 | F7: =VLOOKUP(C7&D7&E7,'Bértábla'!$D$2:$E$13,2,FALSE)
A8: Oláh Levente | B8: szállítás | C8: szellemi | D8: teljes | E8: 2 | F8: =VLOOKUP(C8&D8&E8,'Bértábla'!$D$2:$E$13,2,FALSE) | H8: Megoldás (képletek magyar Excelben):
A9: Lukács Ádám | B9: raktár | C9: fizikai | D9: rész | E9: 3 | F9: =VLOOKUP(C9&D9&E9,'Bértábla'!$D$2:$E$13,2,FALSE) | H9: F2: =FKERES(C2&D2&E2;'Bértábla'!$D$2:$E$13;2;HAMIS)
A10: Mészáros Imre | B10: iroda | C10: fizikai | D10: rész | E10: 3 | F10: =VLOOKUP(C10&D10&E10,'Bértábla'!$D$2:$E$13,2,FALSE)
A11: Bogdán Levente | B11: raktár | C11: szellemi | D11: teljes | E11: 2 | F11: =VLOOKUP(C11&D11&E11,'Bértábla'!$D$2:$E$13,2,FALSE)
A12: Barna Nóra | B12: bolt | C12: fizikai | D12: teljes | E12: 2 | F12: =VLOOKUP(C12&D12&E12,'Bértábla'!$D$2:$E$13,2,FALSE)
A13: Major Teréz | B13: raktár | C13: szellemi | D13: teljes | E13: 3 | F13: =VLOOKUP(C13&D13&E13,'Bértábla'!$D$2:$E$13,2,FALSE)
A14: Szekeres Rita | B14: raktár | C14: fizikai | D14: teljes | E14: 2 | F14: =VLOOKUP(C14&D14&E14,'Bértábla'!$D$2:$E$13,2,FALSE)
A15: Bíró Ildikó | B15: szállítás | C15: szellemi | D15: teljes | E15: 1 | F15: =VLOOKUP(C15&D15&E15,'Bértábla'!$D$2:$E$13,2,FALSE)
A16: Rácz Boglárka | B16: bolt | C16: fizikai | D16: teljes | E16: 2 | F16: =VLOOKUP(C16&D16&E16,'Bértábla'!$D$2:$E$13,2,FALSE)
A17: Kós Mónika | B17: bolt | C17: szellemi | D17: teljes | E17: 3 | F17: =VLOOKUP(C17&D17&E17,'Bértábla'!$D$2:$E$13,2,FALSE)
A18: Pásztor Ferenc | B18: raktár | C18: fizikai | D18: rész | E18: 2 | F18: =VLOOKUP(C18&D18&E18,'Bértábla'!$D$2:$E$13,2,FALSE)
A19: Molnár Teréz | B19: szállítás | C19: fizikai | D19: rész | E19: 2 | F19: =VLOOKUP(C19&D19&E19,'Bértábla'!$D$2:$E$13,2,FALSE)
A20: Balogh Boglárka | B20: bolt | C20: szellemi | D20: rész | E20: 3 | F20: =VLOOKUP(C20&D20&E20,'Bértábla'!$D$2:$E$13,2,FALSE)
A21: Kós Szabolcs | B21: szállítás | C21: szellemi | D21: teljes | E21: 2 | F21: =VLOOKUP(C21&D21&E21,'Bértábla'!$D$2:$E$13,2,FALSE)
... A41: Antal Zoltán | B41: iroda | C41: fizikai | D41: teljes | E41: 1 | F41: =VLOOKUP(C41&D41&E41,'Bértábla'!$D$2:$E$13,2,FALSE)

Sheet Bértábla
A1: kategória | B1: státusz | C1: szint | D1: kulcs | E1: órabér (Ft) | G1: Feladatok
A2: fizikai | B2: teljes | C2: 1 | D2: =A2&B2&C2 | E2: 2450 | G2: A D oszlop az órabér előtt áll, mert az FKERES mindig a tartomány ELSŐ oszlopában keres,
A3: fizikai | B3: teljes | C3: 2 | D3: =A3&B3&C3 | E3: 2800 | G3: és a tőle jobbra lévő oszlopokból ad vissza értéket.
A4: fizikai | B4: teljes | C4: 3 | D4: =A4&B4&C4 | E4: 3150 | G4: Írd a D2-be: =A2&B2&C2, és másold le.
A5: fizikai | B5: rész | C5: 1 | D5: =A5&B5&C5 | E5: 2300
A6: fizikai | B6: rész | C6: 2 | D6: =A6&B6&C6 | E6: 2650 | G6: Megoldás (képletek magyar Excelben):
A7: fizikai | B7: rész | C7: 3 | D7: =A7&B7&C7 | E7: 3000 | G7: D2: =A2&B2&C2
A8: szellemi | B8: teljes | C8: 1 | D8: =A8&B8&C8 | E8: 2950
A9: szellemi | B9: teljes | C9: 2 | D9: =A9&B9&C9 | E9: 3300
A10: szellemi | B10: teljes | C10: 3 | D10: =A10&B10&C10 | E10: 3650
A11: szellemi | B11: rész | C11: 1 | D11: =A11&B11&C11 | E11: 2800
A12: szellemi | B12: rész | C12: 2 | D12: =A12&B12&C12 | E12: 3150
A13: szellemi | B13: rész | C13: 3 | D13: =A13&B13&C13 | E13: 3500

Sheet Szélerősség
A1: nap | B1: átlagsebesség (km/h) | C1: szélmozgás | D1: fokozat | F1: Segédtábla (Beaufort-skála)
A2: 46082 | B2: 2 | C2: =HLOOKUP(B2,$G$2:$S$4,2,TRUE) | D2: =_xlfn.XLOOKUP(B2,$G$2:$S$2,$G$4:$S$4,"",-1) | F2: km/h-tól | G2: 0 | H2: 1 | I2: 6 | J2: 12 | K2: 20 | L2: 29 | M2: 39 | N2: 50 | O2: 62 | P2: 75 | Q2: 89 | R2: 103 | S2: 118
A3: 46083 | B3: 118 | C3: =HLOOKUP(B3,$G$2:$S$4,2,TRUE) | D3: =_xlfn.XLOOKUP(B3,$G$2:$S$2,$G$4:$S$4,"",-1) | F3: megnevezés | G3: szélcsend | H3: gyenge szellő | I3: enyhe szél | J3: gyenge szél | K3: mérsékelt szél | L3: élénk szél | M3: erős szél | N3: viharos szél | O3: élénk viharos szél | P3: heves vihar | Q3: dühöngő vihar | R3: heves szélvihar | S3: orkán
A4: 46084 | B4: 80 | C4: =HLOOKUP(B4,$G$2:$S$4,2,TRUE) | D4: =_xlfn.XLOOKUP(B4,$G$2:$S$2,$G$4:$S$4,"",-1) | F4: fokozat | G4: 0 | H4: 1 | I4: 2 | J4: 3 | K4: 4 | L4: 5 | M4: 6 | N4: 7 | O4: 8 | P4: 9 | Q4: 10 | R4: 11 | S4: 12
A5: 46085 | B5: 67 | C5: =HLOOKUP(B5,$G$2:$S$4,2,TRUE) | D5: =_xlfn.XLOOKUP(B5,$G$2:$S$2,$G$4:$S$4,"",-1)
A6: 46086 | B6: 37 | C6: =HLOOKUP(B6,$G$2:$S$4,2,TRUE) | D6: =_xlfn.XLOOKUP(B6,$G$2:$S$2,$G$4:$S$4,"",-1)
A7: 46087 | B7: 7 | C7: =HLOOKUP(B7,$G$2:$S$4,2,TRUE) | D7: =_xlfn.XLOOKUP(B7,$G$2:$S$2,$G$4:$S$4,"",-1) | F7: Feladatok
A8: 46088 | B8: 20 | C8: =HLOOKUP(B8,$G$2:$S$4,2,TRUE) | D8: =_xlfn.XLOOKUP(B8,$G$2:$S$2,$G$4:$S$4,"",-1) | F8: Írasd ki az átlagsebesség alapján a szélmozgás nevét és fokozatát!
A9: 46089 | B9: 81 | C9: =HLOOKUP(B9,$G$2:$S$4,2,TRUE) | D9: =_xlfn.XLOOKUP(B9,$G$2:$S$2,$G$4:$S$4,"",-1) | F9: 1. C oszlop: a segédtábla vízszintes elrendezésű, ezért a VKERES (HLOOKUP) kell, közelítő egyezéssel.
A10: 46090 | B10: 42 | C10: =HLOOKUP(B10,$G$2:$S$4,2,TRUE) | D10: =_xlfn.XLOOKUP(B10,$G$2:$S$2,$G$4:$S$4,"",-1) | F10: A harmadik argumentum itt sorszám: a megnevezés a tartomány 2. sora.
A11: 46091 | B11: 32 | C11: =HLOOKUP(B11,$G$2:$S$4,2,TRUE) | D11: =_xlfn.XLOOKUP(B11,$G$2:$S$2,$G$4:$S$4,"",-1) | F11: 2. D oszlop: a fokozat XKERES (XLOOKUP) függvénnyel: keresési tömb a G2:S2, visszaadott tömb a G4:S4.
A12: 46092 | B12: 21 | C12: =HLOOKUP(B12,$G$2:$S$4,2,TRUE) | D12: =_xlfn.XLOOKUP(B12,$G$2:$S$2,$G$4:$S$4,"",-1) | F12: Az egyezési mód -1: pontos egyezés, vagy ha nincs, a következő kisebb érték.
A13: 46093 | B13: 24 | C13: =HLOOKUP(B13,$G$2:$S$4,2,TRUE) | D13: =_xlfn.XLOOKUP(B13,$G$2:$S$2,$G$4:$S$4,"",-1) | F13: (Az XKERES a Microsoft 365-ben és az Excel 2021-től érhető el.)
A14: 46094 | B14: 105 | C14: =HLOOKUP(B14,$G$2:$S$4,2,TRUE) | D14: =_xlfn.XLOOKUP(B14,$G$2:$S$2,$G$4:$S$4,"",-1)
A15: 46095 | B15: 48 | C15: =HLOOKUP(B15,$G$2:$S$4,2,TRUE) | D15: =_xlfn.XLOOKUP(B15,$G$2:$S$2,$G$4:$S$4,"",-1) | F15: Megoldás (képletek magyar Excelben):
A16: 46096 | B16: 12 | C16: =HLOOKUP(B16,$G$2:$S$4,2,TRUE) | D16: =_xlfn.XLOOKUP(B16,$G$2:$S$2,$G$4:$S$4,"",-1) | F16: C2: =VKERES(B2;$G$2:$S$4;2;IGAZ)
A17: 46097 | B17: 8 | C17: =HLOOKUP(B17,$G$2:$S$4,2,TRUE) | D17: =_xlfn.XLOOKUP(B17,$G$2:$S$2,$G$4:$S$4,"",-1) | F17: D2: =XKERES(B2;$G$2:$S$2;$G$4:$S$4;"";-1)
A18: 46098 | B18: 37 | C18: =HLOOKUP(B18,$G$2:$S$4,2,TRUE) | D18: =_xlfn.XLOOKUP(B18,$G$2:$S$2,$G$4:$S$4,"",-1)
A19: 46099 | B19: 22 | C19: =HLOOKUP(B19,$G$2:$S$4,2,TRUE) | D19: =_xlfn.XLOOKUP(B19,$G$2:$S$2,$G$4:$S$4,"",-1)
A20: 46100 | B20: 39 | C20: =HLOOKUP(B20,$G$2:$S$4,2,TRUE) | D20: =_xlfn.XLOOKUP(B20,$G$2:$S$2,$G$4:$S$4,"",-1)
A21: 46101 | B21: 14 | C21: =HLOOKUP(B21,$G$2:$S$4,2,TRUE) | D21: =_xlfn.XLOOKUP(B21,$G$2:$S$2,$G$4:$S$4,"",-1)
A22: 46102 | B22: 39 | C22: =HLOOKUP(B22,$G$2:$S$4,2,TRUE) | D22: =_xlfn.XLOOKUP(B22,$G$2:$S$2,$G$4:$S$4,"",-1)
A23: 46103 | B23: 52 | C23: =HLOOKUP(B23,$G$2:$S$4,2,TRUE) | D23: =_xlfn.XLOOKUP(B23,$G$2:$S$2,$G$4:$S$4,"",-1)
A24: 46104 | B24: 112 | C24: =HLOOKUP(B24,$G$2:$S$4,2,TRUE) | D24: =_xlfn.XLOOKUP(B24,$G$2:$S$2,$G$4:$S$4,"",-1)
A25: 46105 | B25: 19 | C25: =HLOOKUP(B25,$G$2:$S$4,2,TRUE) | D25: =_xlfn.XLOOKUP(B25,$G$2:$S$2,$G$4:$S$4,"",-1)
A26: 46106 | B26: 18 | C26: =HLOOKUP(B26,$G$2:$S$4,2,TRUE) | D26: =_xlfn.XLOOKUP(B26,$G$2:$S$2,$G$4:$S$4,"",-1)
A27: 46107 | B27: 15 | C27: =HLOOKUP(B27,$G$2:$S$4,2,TRUE) | D27: =_xlfn.XLOOKUP(B27,$G$2:$S$2,$G$4:$S$4,"",-1)
A28: 46108 | B28: 6 | C28: =HLOOKUP(B28,$G$2:$S$4,2,TRUE) | D28: =_xlfn.XLOOKUP(B28,$G$2:$S$2,$G$4:$S$4,"",-1)
A29: 46109 | B29: 10 | C29: =HLOOKUP(B29,$G$2:$S$4,2,TRUE) | D29: =_xlfn.XLOOKUP(B29,$G$2:$S$2,$G$4:$S$4,"",-1)
... A31: 46111 | B31: 36 | C31: =HLOOKUP(B31,$G$2:$S$4,2,TRUE) | D31: =_xlfn.XLOOKUP(B31,$G$2:$S$2,$G$4:$S$4,"",-1)
